BEGIN:VCALENDAR
VERSION:2.0
PRODID:-//West Coast Trades Academy - ECPv4.6.13//NONSGML v1.0//EN
CALSCALE:GREGORIAN
METHOD:PUBLISH
X-WR-CALNAME:West Coast Trades Academy
X-ORIGINAL-URL:https://wcta.ac.nz
X-WR-CALDESC:Events for West Coast Trades Academy
BEGIN:VEVENT
DTSTART;VALUE=DATE:20190429
DTEND;VALUE=DATE:20190430
DTSTAMP:20191223T060126
CREATED:20181126T214716Z
LAST-MODIFIED:20181126T214716Z
UID:651-1556496000-1556582399@wcta.ac.nz
SUMMARY:Start of term 2
DESCRIPTION:
URL:https://wcta.ac.nz/event/start-of-term-2/
END:VEVENT
END:VCALENDAR