BEGIN:VCALENDAR
VERSION:2.0
PRODID:-//West Coast Trades Academy - ECPv4.6.13//NONSGML v1.0//EN
CALSCALE:GREGORIAN
METHOD:PUBLISH
X-WR-CALNAME:West Coast Trades Academy
X-ORIGINAL-URL:https://wcta.ac.nz
X-WR-CALDESC:Events for West Coast Trades Academy
BEGIN:VEVENT
DTSTART;VALUE=DATE:20190408
DTEND;VALUE=DATE:20190413
DTSTAMP:20191223T060117
CREATED:20181126T211959Z
LAST-MODIFIED:20181126T213359Z
UID:638-1554681600-1555113599@wcta.ac.nz
SUMMARY:Tai Poutini Polytechnic Automotive Year 2 Block Course Week 1
DESCRIPTION:
URL:https://wcta.ac.nz/event/tai-poutini-polytechnic-automotive-year-2-block-course-week-1/
END:VEVENT
END:VCALENDAR