BEGIN:VCALENDAR
VERSION:2.0
PRODID:-//West Coast Trades Academy - ECPv4.6.13//NONSGML v1.0//EN
CALSCALE:GREGORIAN
METHOD:PUBLISH
X-WR-CALNAME:West Coast Trades Academy
X-ORIGINAL-URL:https://wcta.ac.nz
X-WR-CALDESC:Events for West Coast Trades Academy
BEGIN:VEVENT
DTSTART;VALUE=DATE:20190408
DTEND;VALUE=DATE:20190412
DTSTAMP:20191223T060103
CREATED:20181126T211906Z
LAST-MODIFIED:20181126T213458Z
UID:636-1554681600-1555027199@wcta.ac.nz
SUMMARY:Whenua Iti Outdoors Adventure Tourism Leadership Level 2 Week 2 Intake 1
DESCRIPTION:Travel days are the day before the course starts and the day the course finishes \n
URL:https://wcta.ac.nz/event/whenua-iti-outdoors-adventure-tourism-leadership-level-2-week-2-intake-1/
END:VEVENT
END:VCALENDAR